
BEGIN:VCALENDAR
VERSION:2.0
PRODID:-//Visit Ovada - ECPv6.13.2.1//NONSGML v1.0//EN
CALSCALE:GREGORIAN
METHOD:PUBLISH
X-ORIGINAL-URL:https://www.visitovada.com
X-WR-CALDESC:Eventi per Visit Ovada
REFRESH-INTERVAL;VALUE=DURATION:PT1H
X-Robots-Tag:noindex
X-PUBLISHED-TTL:PT1H
BEGIN:VTIMEZONE
TZID:Europe/Rome
BEGIN:DAYLIGHT
TZOFFSETFROM:+0100
TZOFFSETTO:+0200
TZNAME:CEST
DTSTART:20240331T010000
END:DAYLIGHT
BEGIN:STANDARD
TZOFFSETFROM:+0200
TZOFFSETTO:+0100
TZNAME:CET
DTSTART:20241027T010000
END:STANDARD
END:VTIMEZONE
BEGIN:VEVENT
DTSTART;VALUE=DATE:20240706
DTEND;VALUE=DATE:20240829
DTSTAMP:20260420T022036
CREATED:20240619T075059Z
LAST-MODIFIED:20240711T091612Z
UID:9766-1720224000-1724889599@www.visitovada.com
SUMMARY:Foresty 2024
DESCRIPTION:6 luglio – Ernst Reijseger\, violoncello – musica d’improvvisazione\nAbbazia di San Remigio\, Parodi Ligure\, h. 19.30 \n7 luglio – Concerto finale del Workshop di Improvvisazione di Ernst Reijseger\nMontaldeo\, Teatro San Martino\, h. 19.30 \n9 luglio – Contemporary Percussion Gathering\, Brian Archinal e Alberto Anhaus\, percussioni\nAbbazia di San Remigio\, Parodi Ligure\, h. 21.30 \n13 luglio – Contemporary Percussion Gathering\, presentazione Installazioni sonore e performative\nMontaldeo\, alla scoperta del borgo\, h. 17.30 \n14 luglio – Contemporary Percussion Gathering\, partecipanti al corso\, percussioni\nAbbazia di San Remigio\, Parodi Ligure\, h. 19.30 \n30 luglio – Simone Massaron\, chitarra elettrica\nAbbazia di San Remigio\, Parodi Ligure\, h. 21.30 \n2 agosto – Francesco Palmieri e Alberto Anhaus\, musiche di Pierluigi Billone\nAbbazia di San Remigio\, Parodi Ligure\, h. 19.30 \n3 agosto – New Music For Guitar: nuove creazioni per chitarra elettrica\nMontaldeo\, Teatro San Martino\, h. 19.30 \n19 agosto – Marcin Dylla\, chitarra classica\nAbbazia di San Remigio\, Parodi Ligure\, h. 21.30 \n21 agosto – Massimo Lonardi\, liuto rinascimentale\nOratorio della Purificazione\, Castelletto d’Orba\, h. 19.30 \n23 agosto – Concerto finale della masterclass di Marcin Dylla\, chitarra classica\nOratorio della Purificazione\, Castelletto d’Orba\, h. 19.30 \n26 agosto – Quartetto Lyskamm\, quartetto d’archi\nAbbazia di San Remigio\, Parodi Ligure\, h. 21.30 \n27 agosto – Concerto finale della masterclass del Quartetto Lyskamm I\nOratorio della Purificazione\, Castelletto d’Orba\, h. 19.30 \n28 agosto – Concerto finale della masterclass del Quartetto Lyskamm II\nOratorio della Purificazione\, Castelletto d’Orba\, h. 19.30 \nInfo: www.forestymusicfestival.com
URL:https://www.visitovada.com/evento/foresty-2024/
CATEGORIES:Castelletto d'Orba,Montaldeo,Parodi Ligure
ATTACH;FMTTYPE=image/jpeg:https://www.visitovada.com/wp-content/uploads/2024/06/0828img-20240709-wa0031.jpg
END:VEVENT
BEGIN:VEVENT
DTSTART;VALUE=DATE:20240712
DTEND;VALUE=DATE:20240727
DTSTAMP:20260420T022036
CREATED:20240704T140714Z
LAST-MODIFIED:20240704T140714Z
UID:9852-1720742400-1722038399@www.visitovada.com
SUMMARY:Venerdì di luglio
DESCRIPTION:Per le vie e le piazze del Centro Storico dalle ore 21:00 alle ore 24:00 \n– Venerdì 12: Ovada dei bambini\n– Venerdì 19: Ovada dello Sport\n– Venerdì 26: Ovada dei giovani / Aperitivando \nNegozi aperti
URL:https://www.visitovada.com/evento/venerdi-di-luglio/
CATEGORIES:Ovada
ATTACH;FMTTYPE=image/png:https://www.visitovada.com/wp-content/uploads/2024/07/0726venerdi.png
END:VEVENT
BEGIN:VEVENT
DTSTART;VALUE=DATE:20240715
DTEND;VALUE=DATE:20240720
DTSTAMP:20260420T022036
CREATED:20240710T080611Z
LAST-MODIFIED:20240710T080708Z
UID:9898-1721001600-1721433599@www.visitovada.com
SUMMARY:Ai bravi burattinai d'Italia
DESCRIPTION:Presso corte Padre Dionisio alle ore 21:00 \nLunedì 15: “Una cena in via dei tulipani volanti”\nMartedì 16: “il mulino incantato”\nMercoledì 17: “attenti al bebè”\nGiovedì 18: “la muerte del Don Cristobal”\nVenerdì 19: “Pantalone ha perso la Trebisonda”
URL:https://www.visitovada.com/evento/ai-bravi-burattinai-ditalia/
CATEGORIES:Silvano d'Orba
ATTACH;FMTTYPE=image/jpeg:https://www.visitovada.com/wp-content/uploads/2024/07/450392227_788945016763191_8769751323476891698_n.jpg
END:VEVENT
BEGIN:VEVENT
DTSTART;VALUE=DATE:20240718
DTEND;VALUE=DATE:20240722
DTSTAMP:20260420T022036
CREATED:20240704T075714Z
LAST-MODIFIED:20240704T075714Z
UID:9848-1721260800-1721606399@www.visitovada.com
SUMMARY:Madonna del Carmine
DESCRIPTION:Triduo di preparazione:\n– giovedì 18 luglio ore 20:45 Recita del Rosario\, Adorazione e Benedizione Eucaristica\n– venerdì 19 luglio ore 20:45 Recita del Rosario\, Adorazione e Benedizione Eucaristica\n– sabato 20 luglio ore 20:45 Recita del Rosario\, Adorazione e Benedizione Eucaristica \nOrario delle funzioni di domenica 21 luglio:\n– Santa Messa ore 08:00\n– Santa Messa Solenne ore 17:30\nSeguirà Processione per le vie della città
URL:https://www.visitovada.com/evento/madonna-del-carmine-2/
CATEGORIES:Ovada
ATTACH;FMTTYPE=image/jpeg:https://www.visitovada.com/wp-content/uploads/2024/07/0721carmine-ovada_page-0001-scaled.jpg
END:VEVENT
BEGIN:VEVENT
DTSTART;VALUE=DATE:20240719
DTEND;VALUE=DATE:20240722
DTSTAMP:20260420T022036
CREATED:20240704T153329Z
LAST-MODIFIED:20240704T153329Z
UID:9861-1721347200-1721606399@www.visitovada.com
SUMMARY:Sagra delle Tagliatelle
DESCRIPTION:Presso campo sportivo\n20 luglio serata giovani\nSolo cena. Tagliatelle impastate al momento con sughi : ragù\, lepre\, funghi\, erbe aromatiche; coniglio alla cremolinese\, salsiccia\, braciola\, galletto alla piastra\, patatine fritte\, peperonata\, bunker\, crostata\, torta di nocciole. Vino Dolcetto… dei produttori locali.
URL:https://www.visitovada.com/evento/sagra-delle-tagliatelle-2/
CATEGORIES:Cremolino
ATTACH;FMTTYPE=image/jpeg:https://www.visitovada.com/wp-content/uploads/2024/07/0721tagliatelle.jpg
END:VEVENT
BEGIN:VEVENT
DTSTART;VALUE=DATE:20240719
DTEND;VALUE=DATE:20240720
DTSTAMP:20260420T022036
CREATED:20240716T094354Z
LAST-MODIFIED:20240716T094354Z
UID:10035-1721347200-1721433599@www.visitovada.com
SUMMARY:Ovada dello Sport
DESCRIPTION:Per le vie e le piazze del Centro Storico dalle ore 21:00 alle ore 24:00 \nSerata dedicata allo sport \nSocietà sportive presenti:\nAssociazione Calcio\nAtletica\nBasket\nCountry Balli\nJu-Jitsu\nMambo Rico\nNuoto\nPalestra Urban Fitness\nPallavolo\nPattinaggio\nQuada\nTamburello\nUà Cycling \nNegozi aperti
URL:https://www.visitovada.com/evento/ovada-dello-sport/
CATEGORIES:Ovada
ATTACH;FMTTYPE=image/png:https://www.visitovada.com/wp-content/uploads/2024/07/opere-darte-1.png
END:VEVENT
END:VCALENDAR