
BEGIN:VCALENDAR
VERSION:2.0
PRODID:-//Visit Ovada - ECPv6.13.2.1//NONSGML v1.0//EN
CALSCALE:GREGORIAN
METHOD:PUBLISH
X-WR-CALNAME:Visit Ovada
X-ORIGINAL-URL:https://www.visitovada.com
X-WR-CALDESC:Eventi per Visit Ovada
REFRESH-INTERVAL;VALUE=DURATION:PT1H
X-Robots-Tag:noindex
X-PUBLISHED-TTL:PT1H
BEGIN:VTIMEZONE
TZID:Europe/Rome
BEGIN:DAYLIGHT
TZOFFSETFROM:+0100
TZOFFSETTO:+0200
TZNAME:CEST
DTSTART:20260329T010000
END:DAYLIGHT
BEGIN:STANDARD
TZOFFSETFROM:+0200
TZOFFSETTO:+0100
TZNAME:CET
DTSTART:20261025T010000
END:STANDARD
END:VTIMEZONE
BEGIN:VEVENT
DTSTART;VALUE=DATE:20260425
DTEND;VALUE=DATE:20260426
DTSTAMP:20260425T013726
CREATED:20260408T072302Z
LAST-MODIFIED:20260408T072302Z
UID:12983-1777075200-1777161599@www.visitovada.com
SUMMARY:81° Anniversario della Liberazione
DESCRIPTION:Partenza corteo ore 16:00 presso Via Marconi Piazzale Farmacia/Cooperativa Tagliolese
URL:https://www.visitovada.com/evento/81-anniversario-della-liberazione/
CATEGORIES:Tagliolo Monferrato
END:VEVENT
BEGIN:VEVENT
DTSTART;VALUE=DATE:20260425
DTEND;VALUE=DATE:20260426
DTSTAMP:20260425T013726
CREATED:20260408T091538Z
LAST-MODIFIED:20260408T091538Z
UID:13051-1777075200-1777161599@www.visitovada.com
SUMMARY:Fiera di San Marco
DESCRIPTION:Mercato di merci varie\, Mostra espositiva\, Degustazione e vendita vini\, giochi per bambini\, esposizione disegni e ceramiche\, musica \nInoltre visite guidate gratuite alle ore 11 e alle ore 16\nRitrovo 15 minuti prima presso il monumento di via Baldo\nDurata 45 minuti circa
URL:https://www.visitovada.com/evento/fiera-di-san-marco-2/
CATEGORIES:Lerma
ATTACH;FMTTYPE=image/jpeg:https://www.visitovada.com/wp-content/uploads/2026/04/0425fiera.jpeg
END:VEVENT
BEGIN:VEVENT
DTSTART;VALUE=DATE:20260425
DTEND;VALUE=DATE:20260426
DTSTAMP:20260425T013726
CREATED:20260408T091817Z
LAST-MODIFIED:20260408T091817Z
UID:13054-1777075200-1777161599@www.visitovada.com
SUMMARY:Auto moto raduno-story
DESCRIPTION:2 edizione \nPresso Piazza Genova dalle ore 08 alle ore 10 \nQuota 15€ a persona \nInfo 348 4437737
URL:https://www.visitovada.com/evento/auto-moto-raduno-story-2/
CATEGORIES:Lerma
ATTACH;FMTTYPE=image/jpeg:https://www.visitovada.com/wp-content/uploads/2026/04/0425raduno.jpeg
END:VEVENT
BEGIN:VEVENT
DTSTART;VALUE=DATE:20260425
DTEND;VALUE=DATE:20260426
DTSTAMP:20260425T013726
CREATED:20260411T134544Z
LAST-MODIFIED:20260411T134544Z
UID:13085-1777075200-1777161599@www.visitovada.com
SUMMARY:81° anniversario della Liberazione
DESCRIPTION:Ore 09:00 presso monumento ai caduti onore ai caduti\nOre 09:30 Santa Messa\nOre 10:15 corteo lungo le vie del paese con accompagnamento del corpo musicale\nOre 10:45 commemorazione presso Piazza Cesare Battisti \nIn caso di maltempo presso Salone della SOMS
URL:https://www.visitovada.com/evento/81-anniversario-della-liberazione-2/
CATEGORIES:Silvano d'Orba
ATTACH;FMTTYPE=image/jpeg:https://www.visitovada.com/wp-content/uploads/2026/04/whatsapp-image-2026-04-11-at-12.21.50.jpeg
END:VEVENT
BEGIN:VEVENT
DTSTART;VALUE=DATE:20260425
DTEND;VALUE=DATE:20260426
DTSTAMP:20260425T013726
CREATED:20260416T141219Z
LAST-MODIFIED:20260416T141219Z
UID:13101-1777075200-1777161599@www.visitovada.com
SUMMARY:25 APRILE 2026 81° ANNIVERSARIO DELLA LIBERAZIONE
DESCRIPTION:Programma\nore 9\,15 Raduno in Piazza G Matteotti e Celebrazione della S. Messa presso la Cripta dei Caduti nel Cimitero Urbano\nore 10\,15 Omaggio al monumento alla Resistenza in via Gramsci\, al monumento dei Caduti di tutte le guerre e alla lapide dei fucilati di piazza XX Settembre con la partecipazione del Corpo Bandistico ‘Antonio Rebora” diretto da M° G.B. Olivieri\nore 11\,00 Cerimonia conclusiva presso la Loggia di San Sebastiano\nSaluti:\nGian Franco Comaschi – Sindaco\nA.N.P.I. Sezione “Paolo Marchelli” di Ovada\nPresentazione del progetto:\n’’L’altra Città: voci e scatti della memoria’’\na cura degli studenti dell’Istituto Santa Caterina Madri Pie\nCon la partecipazione musicale degli alunni\ndella Scuola Secondaria di 1° grado ’’S. Pertini’’
URL:https://www.visitovada.com/evento/25-aprile-2026-81-anniversario-della-liberazione/
CATEGORIES:Ovada
ATTACH;FMTTYPE=image/jpeg:https://www.visitovada.com/wp-content/uploads/2026/04/0425manifesto-25-aprile-2026_page-0001-scaled.jpg
END:VEVENT
END:VCALENDAR