
BEGIN:VCALENDAR
VERSION:2.0
PRODID:-//Visit Ovada - ECPv6.13.2.1//NONSGML v1.0//EN
CALSCALE:GREGORIAN
METHOD:PUBLISH
X-WR-CALNAME:Visit Ovada
X-ORIGINAL-URL:https://www.visitovada.com
X-WR-CALDESC:Eventi per Visit Ovada
REFRESH-INTERVAL;VALUE=DURATION:PT1H
X-Robots-Tag:noindex
X-PUBLISHED-TTL:PT1H
BEGIN:VTIMEZONE
TZID:Europe/Rome
BEGIN:DAYLIGHT
TZOFFSETFROM:+0100
TZOFFSETTO:+0200
TZNAME:CEST
DTSTART:20240331T010000
END:DAYLIGHT
BEGIN:STANDARD
TZOFFSETFROM:+0200
TZOFFSETTO:+0100
TZNAME:CET
DTSTART:20241027T010000
END:STANDARD
END:VTIMEZONE
BEGIN:VEVENT
DTSTART;VALUE=DATE:20240713
DTEND;VALUE=DATE:20240717
DTSTAMP:20260424T052050
CREATED:20240703T090613Z
LAST-MODIFIED:20240703T090613Z
UID:9844-1720828800-1721174399@www.visitovada.com
SUMMARY:Madonna del Carmine
DESCRIPTION:Triduo di preparazione \nSabato 13: Santa Messa ore 20:30\nDomenica 14: Santa Messa ore 10:30\nLunedì 15: Santa Messa ore 20:30\nMartedì 16: Santa Messa ore 20:00 – processione per le vie del paese ore 21:00
URL:https://www.visitovada.com/evento/madonna-del-carmine/
CATEGORIES:Cremolino
ATTACH;FMTTYPE=image/jpeg:https://www.visitovada.com/wp-content/uploads/2024/07/0716locandina-2024carmine.jpg
END:VEVENT
BEGIN:VEVENT
DTSTART;VALUE=DATE:20240719
DTEND;VALUE=DATE:20240722
DTSTAMP:20260424T052050
CREATED:20240704T153329Z
LAST-MODIFIED:20240704T153329Z
UID:9861-1721347200-1721606399@www.visitovada.com
SUMMARY:Sagra delle Tagliatelle
DESCRIPTION:Presso campo sportivo\n20 luglio serata giovani\nSolo cena. Tagliatelle impastate al momento con sughi : ragù\, lepre\, funghi\, erbe aromatiche; coniglio alla cremolinese\, salsiccia\, braciola\, galletto alla piastra\, patatine fritte\, peperonata\, bunker\, crostata\, torta di nocciole. Vino Dolcetto… dei produttori locali.
URL:https://www.visitovada.com/evento/sagra-delle-tagliatelle-2/
CATEGORIES:Cremolino
ATTACH;FMTTYPE=image/jpeg:https://www.visitovada.com/wp-content/uploads/2024/07/0721tagliatelle.jpg
END:VEVENT
BEGIN:VEVENT
DTSTART;VALUE=DATE:20240727
DTEND;VALUE=DATE:20240730
DTSTAMP:20260424T052050
CREATED:20240627T073855Z
LAST-MODIFIED:20240627T073929Z
UID:9831-1722038400-1722297599@www.visitovada.com
SUMMARY:Sagra del pesce
DESCRIPTION:Con specialità:\ntagliatelle alle vongole\, acciughe e scoglio\ninsalata di mare\ntrancio di pesce spada\nfritto misto – muscolata\ninoltre specialità gastronomiche di carni\ncon vini tipici locali \npresso campo sportivo
URL:https://www.visitovada.com/evento/sagra-del-pesce/
CATEGORIES:Cremolino
ATTACH;FMTTYPE=image/jpeg:https://www.visitovada.com/wp-content/uploads/2024/06/loc-cremolino-pesci_page-0001-scaled.jpg
END:VEVENT
END:VCALENDAR