
BEGIN:VCALENDAR
VERSION:2.0
PRODID:-//Visit Ovada - ECPv6.13.2.1//NONSGML v1.0//EN
CALSCALE:GREGORIAN
METHOD:PUBLISH
X-WR-CALNAME:Visit Ovada
X-ORIGINAL-URL:https://www.visitovada.com
X-WR-CALDESC:Eventi per Visit Ovada
REFRESH-INTERVAL;VALUE=DURATION:PT1H
X-Robots-Tag:noindex
X-PUBLISHED-TTL:PT1H
BEGIN:VTIMEZONE
TZID:Europe/Rome
BEGIN:DAYLIGHT
TZOFFSETFROM:+0100
TZOFFSETTO:+0200
TZNAME:CEST
DTSTART:20240331T010000
END:DAYLIGHT
BEGIN:STANDARD
TZOFFSETFROM:+0200
TZOFFSETTO:+0100
TZNAME:CET
DTSTART:20241027T010000
END:STANDARD
BEGIN:DAYLIGHT
TZOFFSETFROM:+0100
TZOFFSETTO:+0200
TZNAME:CEST
DTSTART:20250330T010000
END:DAYLIGHT
BEGIN:STANDARD
TZOFFSETFROM:+0200
TZOFFSETTO:+0100
TZNAME:CET
DTSTART:20251026T010000
END:STANDARD
END:VTIMEZONE
BEGIN:VEVENT
DTSTART;VALUE=DATE:20241208
DTEND;VALUE=DATE:20250201
DTSTAMP:20260423T212753
CREATED:20241211T144236Z
LAST-MODIFIED:20241211T144831Z
UID:10674-1733616000-1738367999@www.visitovada.com
SUMMARY:Presepi
DESCRIPTION:PIAZZA CERESETO\, OVADA\nVenerdì 20 Dicembre ore 17:30 apertura\nDal 21 Dicembre fino al 6 Gennaio 2025\, tutti i giorni dalle ore 16:00 alle ore 19:00\, mercoledì e sabato 10:00 – 12:00 e 16:00 – 19:00 \nCHIESA di SANTE CRISTE\, BELFORTE MONFERRATO\nPer le visite contattare 347 696 7968\, Renzo Pastorino \nSAN SILVESTRO\, MORNESE\nVisitabile il 24 Dicembre dopo la Santa Messa delle ore 24\, 25 Dicembre dalle ore 16:00 alle ore 19:00\, dal 26 al 31 Dicembre dalle ore 15:00 alle ore 18:00\, 1-4-5 Gennaio 2025 dalle ore 15:00 alle ore 18:00\, 6 Gennaio 2025 dalle ore 16:00 alle ore 18:00 \nPARROCCHIA SAN GIOVANNI BATTISTA\, LERMA\nVisitabile durante la Santa Messa del sabato alle ore 17:30.\nPrenotazioni\, contattando il 338 217 6078 \nCHIESA SAN BENEDETTO\, TAGLIOLO MONFERRATO\nAperto fino al 31 Gennaio 2025 tutti i giorni dalle ore 9:30 alle ore 18:30 \nCHIESA SAN ROCCO\, CASTELLETTO D’ORBA\nAperto fino al 12 Gennaio 2025 \nCONVENTO CARMELITANO\, CREMOLINO\nAperto nei festivi e prefestivi dalle ore 10:00 alle ore 12:00 e dalle ore 15:00 alle ore 18:00\nSu prenotazione 0143 879037 \nRIFUGIO MONTE TOBBIO\nDall’8 Dicembre al 6 Gennaio 2025
URL:https://www.visitovada.com/evento/presepi/
CATEGORIES:Belforte Monferrato,Castelletto d'Orba,Cremolino,Lerma,Mornese,Ovada,Tagliolo Monferrato
ATTACH;FMTTYPE=image/jpeg:https://www.visitovada.com/wp-content/uploads/2024/12/3112whatsapp-image-2024-12-10-at-09.53.04.jpeg
END:VEVENT
BEGIN:VEVENT
DTSTART;VALUE=DATE:20241214
DTEND;VALUE=DATE:20241216
DTSTAMP:20260423T212753
CREATED:20241120T143838Z
LAST-MODIFIED:20241120T143838Z
UID:10579-1734134400-1734307199@www.visitovada.com
SUMMARY:Passeggiate nel Borgo
DESCRIPTION:Con visita ai presepi storici \nRitrovo presso Piazza Vittorio Emanuele II alle ore 10:00 – 11:00 – 15:00 – 16:00\nMercatini di Natale dalle ore 10:00 alle ore 17:00\nIlluminazione artistica del campanile e di Piazza Vittorio Emanuele II \nPer info e prenotazioni 338 1712030 – ovada@gruppofai.fondoambiente.it
URL:https://www.visitovada.com/evento/passeggiate-nel-borgo/
CATEGORIES:Cremolino
ATTACH;FMTTYPE=image/jpeg:https://www.visitovada.com/wp-content/uploads/2024/11/1512whatsapp-image-2024-11-18-at-11.11.08.jpeg
END:VEVENT
BEGIN:VEVENT
DTSTART;VALUE=DATE:20241214
DTEND;VALUE=DATE:20241216
DTSTAMP:20260423T212753
CREATED:20241123T100518Z
LAST-MODIFIED:20241127T081834Z
UID:10607-1734134400-1734307199@www.visitovada.com
SUMMARY:Un Borgo da Presepe
DESCRIPTION:Dalle ore 10:00 alle ore 17:00 presso Piazza Vittorio Emanuele II \n– Apertura del Presepio Storico allestito nel Convento Carmelitano insieme ad altri presepi\n– Mercatini di Natale con prodotti tipici\n– Visite guidate del Borgo alle ore 10:00 – 11:00 – 15:00 – 16:00\n– Domenica dalle 14:30 concerto “Aspettando Natale” con Madhura e Pamela\n– Illuminazione artistica del campanile\, della Parrocchia e della Piazza \nPer maggiori info: www.cremolino.info
URL:https://www.visitovada.com/evento/un-borgo-da-presepe/
CATEGORIES:Cremolino
ATTACH;FMTTYPE=image/jpeg:https://www.visitovada.com/wp-content/uploads/2024/11/whatsapp-image-2024-11-27-at-08.41.51.jpeg
END:VEVENT
END:VCALENDAR