
BEGIN:VCALENDAR
VERSION:2.0
PRODID:-//Visit Ovada - ECPv6.13.2.1//NONSGML v1.0//EN
CALSCALE:GREGORIAN
METHOD:PUBLISH
X-ORIGINAL-URL:https://www.visitovada.com
X-WR-CALDESC:Eventi per Visit Ovada
REFRESH-INTERVAL;VALUE=DURATION:PT1H
X-Robots-Tag:noindex
X-PUBLISHED-TTL:PT1H
BEGIN:VTIMEZONE
TZID:Europe/Rome
BEGIN:DAYLIGHT
TZOFFSETFROM:+0100
TZOFFSETTO:+0200
TZNAME:CEST
DTSTART:20240331T010000
END:DAYLIGHT
BEGIN:STANDARD
TZOFFSETFROM:+0200
TZOFFSETTO:+0100
TZNAME:CET
DTSTART:20241027T010000
END:STANDARD
BEGIN:DAYLIGHT
TZOFFSETFROM:+0100
TZOFFSETTO:+0200
TZNAME:CEST
DTSTART:20250330T010000
END:DAYLIGHT
BEGIN:STANDARD
TZOFFSETFROM:+0200
TZOFFSETTO:+0100
TZNAME:CET
DTSTART:20251026T010000
END:STANDARD
BEGIN:DAYLIGHT
TZOFFSETFROM:+0100
TZOFFSETTO:+0200
TZNAME:CEST
DTSTART:20260329T010000
END:DAYLIGHT
BEGIN:STANDARD
TZOFFSETFROM:+0200
TZOFFSETTO:+0100
TZNAME:CET
DTSTART:20261025T010000
END:STANDARD
END:VTIMEZONE
BEGIN:VEVENT
DTSTART;VALUE=DATE:20241208
DTEND;VALUE=DATE:20250201
DTSTAMP:20260424T020109
CREATED:20241211T144236Z
LAST-MODIFIED:20241211T144831Z
UID:10674-1733616000-1738367999@www.visitovada.com
SUMMARY:Presepi
DESCRIPTION:PIAZZA CERESETO\, OVADA\nVenerdì 20 Dicembre ore 17:30 apertura\nDal 21 Dicembre fino al 6 Gennaio 2025\, tutti i giorni dalle ore 16:00 alle ore 19:00\, mercoledì e sabato 10:00 – 12:00 e 16:00 – 19:00 \nCHIESA di SANTE CRISTE\, BELFORTE MONFERRATO\nPer le visite contattare 347 696 7968\, Renzo Pastorino \nSAN SILVESTRO\, MORNESE\nVisitabile il 24 Dicembre dopo la Santa Messa delle ore 24\, 25 Dicembre dalle ore 16:00 alle ore 19:00\, dal 26 al 31 Dicembre dalle ore 15:00 alle ore 18:00\, 1-4-5 Gennaio 2025 dalle ore 15:00 alle ore 18:00\, 6 Gennaio 2025 dalle ore 16:00 alle ore 18:00 \nPARROCCHIA SAN GIOVANNI BATTISTA\, LERMA\nVisitabile durante la Santa Messa del sabato alle ore 17:30.\nPrenotazioni\, contattando il 338 217 6078 \nCHIESA SAN BENEDETTO\, TAGLIOLO MONFERRATO\nAperto fino al 31 Gennaio 2025 tutti i giorni dalle ore 9:30 alle ore 18:30 \nCHIESA SAN ROCCO\, CASTELLETTO D’ORBA\nAperto fino al 12 Gennaio 2025 \nCONVENTO CARMELITANO\, CREMOLINO\nAperto nei festivi e prefestivi dalle ore 10:00 alle ore 12:00 e dalle ore 15:00 alle ore 18:00\nSu prenotazione 0143 879037 \nRIFUGIO MONTE TOBBIO\nDall’8 Dicembre al 6 Gennaio 2025
URL:https://www.visitovada.com/evento/presepi/
CATEGORIES:Belforte Monferrato,Castelletto d'Orba,Cremolino,Lerma,Mornese,Ovada,Tagliolo Monferrato
ATTACH;FMTTYPE=image/jpeg:https://www.visitovada.com/wp-content/uploads/2024/12/3112whatsapp-image-2024-12-10-at-09.53.04.jpeg
END:VEVENT
BEGIN:VEVENT
DTSTART;VALUE=DATE:20241214
DTEND;VALUE=DATE:20241216
DTSTAMP:20260424T020109
CREATED:20241120T143838Z
LAST-MODIFIED:20241120T143838Z
UID:10579-1734134400-1734307199@www.visitovada.com
SUMMARY:Passeggiate nel Borgo
DESCRIPTION:Con visita ai presepi storici \nRitrovo presso Piazza Vittorio Emanuele II alle ore 10:00 – 11:00 – 15:00 – 16:00\nMercatini di Natale dalle ore 10:00 alle ore 17:00\nIlluminazione artistica del campanile e di Piazza Vittorio Emanuele II \nPer info e prenotazioni 338 1712030 – ovada@gruppofai.fondoambiente.it
URL:https://www.visitovada.com/evento/passeggiate-nel-borgo/
CATEGORIES:Cremolino
ATTACH;FMTTYPE=image/jpeg:https://www.visitovada.com/wp-content/uploads/2024/11/1512whatsapp-image-2024-11-18-at-11.11.08.jpeg
END:VEVENT
BEGIN:VEVENT
DTSTART;VALUE=DATE:20241214
DTEND;VALUE=DATE:20241216
DTSTAMP:20260424T020109
CREATED:20241123T100518Z
LAST-MODIFIED:20241127T081834Z
UID:10607-1734134400-1734307199@www.visitovada.com
SUMMARY:Un Borgo da Presepe
DESCRIPTION:Dalle ore 10:00 alle ore 17:00 presso Piazza Vittorio Emanuele II \n– Apertura del Presepio Storico allestito nel Convento Carmelitano insieme ad altri presepi\n– Mercatini di Natale con prodotti tipici\n– Visite guidate del Borgo alle ore 10:00 – 11:00 – 15:00 – 16:00\n– Domenica dalle 14:30 concerto “Aspettando Natale” con Madhura e Pamela\n– Illuminazione artistica del campanile\, della Parrocchia e della Piazza \nPer maggiori info: www.cremolino.info
URL:https://www.visitovada.com/evento/un-borgo-da-presepe/
CATEGORIES:Cremolino
ATTACH;FMTTYPE=image/jpeg:https://www.visitovada.com/wp-content/uploads/2024/11/whatsapp-image-2024-11-27-at-08.41.51.jpeg
END:VEVENT
BEGIN:VEVENT
DTSTART;VALUE=DATE:20250330
DTEND;VALUE=DATE:20250331
DTSTAMP:20260424T020109
CREATED:20250327T164827Z
LAST-MODIFIED:20250327T164827Z
UID:11159-1743292800-1743379199@www.visitovada.com
SUMMARY:Semi in Piazza
DESCRIPTION:scambio gratuito di semi e talee\nbanchetti dei produttori \npresso piazza San Bernardo dalle ore 10 alle 17
URL:https://www.visitovada.com/evento/semi-in-piazza/
CATEGORIES:Cremolino
ATTACH;FMTTYPE=image/jpeg:https://www.visitovada.com/wp-content/uploads/2025/03/0330img-20250215-wa0000.jpg
END:VEVENT
BEGIN:VEVENT
DTSTART;VALUE=DATE:20250501
DTEND;VALUE=DATE:20250502
DTSTAMP:20260424T020109
CREATED:20250422T095434Z
LAST-MODIFIED:20250422T095434Z
UID:11359-1746057600-1746143999@www.visitovada.com
SUMMARY:La festa delle frittelle
DESCRIPTION:nell’antico borgo \nrievocazione storica con gli sbandieratori di Asti \nmusica\, bancarelle. \nin caso di maltempo verrà posticipata al 4 maggio
URL:https://www.visitovada.com/evento/la-festa-delle-frittelle/
CATEGORIES:Cremolino
ATTACH;FMTTYPE=image/jpeg:https://www.visitovada.com/wp-content/uploads/2025/04/0501frittelle.jpg
END:VEVENT
BEGIN:VEVENT
DTSTART;VALUE=DATE:20250531
DTEND;VALUE=DATE:20250602
DTSTAMP:20260424T020109
CREATED:20250418T143132Z
LAST-MODIFIED:20250418T143132Z
UID:11335-1748649600-1748822399@www.visitovada.com
SUMMARY:Cremolino Art Festival
DESCRIPTION:Preparati a vivere un’esperienza artistica straordinaria il 31 maggio e 1 giugno 2025 nel suggestivo borgo di Cremolino\, recentemente premiato dal FAI come primo borgo d’Italia nella prestigiosa classifica dei Luoghi del Cuore. \nDurante questi giorni speciali\, le vie e le piazze dell’antico borgo diventeranno una spettacolare galleria a cielo aperto\, animata da artisti affermati ed emergenti provenienti da tutta Italia. \nPotrai immergerti in mostre di pittura\, scultura\, street art\, fotografia e suggestive installazioni artistiche. \nNon perdere l’opportunità di partecipare a un evento unico\, celebrare l’arte e scoprire il fascino e la storia di Cremolino. \nRimani aggiornato visitando il sito ufficiale www.cremolino.info e seguici sui nostri canali social: troverai presto maggiori dettagli sul programma\, sugli artisti partecipanti e su tutte le sorprese che abbiamo in serbo per te! \nTi aspettiamo per vivere insieme questa straordinaria festa dell’arte e della bellezza! \nCremolino Art Festival – Dove l’arte incontra il cuore dell’Italia!
URL:https://www.visitovada.com/evento/cremolino-art-festival/
CATEGORIES:Cremolino
ATTACH;FMTTYPE=image/png:https://www.visitovada.com/wp-content/uploads/2025/04/0601locandina-1-qr.png
END:VEVENT
BEGIN:VEVENT
DTSTART;VALUE=DATE:20250608
DTEND;VALUE=DATE:20250609
DTSTAMP:20260424T020109
CREATED:20250508T140617Z
LAST-MODIFIED:20250508T140617Z
UID:11455-1749340800-1749427199@www.visitovada.com
SUMMARY:Quattr pass e..na bela mangioda
DESCRIPTION:camminare mangiando e bevendo tra arte\, storia e vigneti Dolcetto. \npartenza dalle ore 8 fino alle 12 \nobbligatoria prenotazione 0143 821026
URL:https://www.visitovada.com/evento/quattr-pass-e-na-bela-mangioda/
CATEGORIES:Cremolino
ATTACH;FMTTYPE=image/jpeg:https://www.visitovada.com/wp-content/uploads/2025/05/0608_495116295_1113114984182614_815049640485930815_n.jpg
END:VEVENT
BEGIN:VEVENT
DTSTART;VALUE=DATE:20250615
DTEND;VALUE=DATE:20250616
DTSTAMP:20260424T020109
CREATED:20250521T134649Z
LAST-MODIFIED:20250521T134649Z
UID:11496-1749945600-1750031999@www.visitovada.com
SUMMARY:Cremolino in festa
DESCRIPTION:Dalle ore 10:00 alle ore 21:00 presso il Centro Storico \nMusicisti:\n– Duo “Cantò antra curte” musica folk\n– Gabriele Persico  musica contemporanea alle tastiere\n– Duo “La locanda dei ricordi” musica pop e rock \nGare di bocce con premi finali\, bancarelle di artigianato tipico dell’Ovadese e dell’Acquese \nOre 18:00 Compagnia “Le Signorine Maramao” con lo spettacolo “Cantano le Divine” \nPrenotazione obbligatoria entro il 13 Giugno contattando il numero 342  5892747
URL:https://www.visitovada.com/evento/cremolino-in-festa/
CATEGORIES:Cremolino
ATTACH;FMTTYPE=image/jpeg:https://www.visitovada.com/wp-content/uploads/2025/05/whatsapp-image-2025-05-20-at-20.12.48.jpeg
END:VEVENT
BEGIN:VEVENT
DTSTART;VALUE=DATE:20250718
DTEND;VALUE=DATE:20250721
DTSTAMP:20260424T020109
CREATED:20250705T090828Z
LAST-MODIFIED:20250705T090828Z
UID:11878-1752796800-1753055999@www.visitovada.com
SUMMARY:Festa Patronale N.S. del Carmine
DESCRIPTION:40a Sagra delle tagliatelle\nPresso Campo Sportivo \nSabato 19 e Domenica 20 luglio serata giovani
URL:https://www.visitovada.com/evento/festa-patronale-n-s-del-carmine/
CATEGORIES:Cremolino
ATTACH;FMTTYPE=image/jpeg:https://www.visitovada.com/wp-content/uploads/2025/07/0720_515540232_1156865596474219_7119436972336248427_n.jpg
END:VEVENT
BEGIN:VEVENT
DTSTART;VALUE=DATE:20250802
DTEND;VALUE=DATE:20250825
DTSTAMP:20260424T020109
CREATED:20250521T140828Z
LAST-MODIFIED:20250521T140828Z
UID:11505-1754092800-1756079999@www.visitovada.com
SUMMARY:CREMOLINO TEATRO E MUSICA 2025
DESCRIPTION:Associazione Culturale I GUITTI DI CREMOLINO – ANNO XXI°- GIUGNO 2025\nPresso Piazza Vittorio Emanuele (del Comune) dalle ore 21:15 \nPROGRAMMA\n– Sabato 2 agosto: la Compagnia dei VILLEZZANTI di Genova metterà in scena una commedia del repertorio di Govi: I Manezzi pe’ maja na figgia tre atti di Nicolò Bacigalupo con la regia di Anna Nicora.\n– Domenica 3 agosto ci sarà il gradito ritorno della Compagnia LA BRENTA di Arzello che presenterà in dialetto piemontese una divertente commedia: Na banda ed mois\, sceneggiatura e regia a cura della Compagnia\n– Sabato 9 agosto: la Compagnia ARKOBA-LENGO di Asti presenterà la commedia COSA RESTA DELLA GUERRA di Sergio Di Grado con la regia di Loris Mosca.\n– Domenica 10 agosto: debutto della band MOON TRIO che darà vita a un concerto pop con i seguenti musicisti: Silvia Ivaldi voce; Lorenzo Zimarro – basso elettrico; Filippo Gorini tastiere\n– Sabato 17 agosto: II DUO BAILENGA formato da Elisa Guarraggi e Pietro Astori presenterà NEBBIA uno spettacolo teatrale e musicale sui canti della tradizione orale\, narrando le peregrinazioni di due artisti girovaghi (Elisa e Pietro) ed il loro ritorno alla nebbiosa “ITACA” alessandrina.\n– Sabato 23 Agosto la Compagnia NOTTE MAGICA metterà in scena la commedia LEGITTIMA DIFESA di Stefania De Ruvo\n– Domenica 24 agosto: tributo al repertorio di Mina. Fanno parte dello spettacolo Le Signorine Maramao con Miriam Marcolongo e Giovanna Perlongo. Ci sarà anche il presentato- re interpretato da Gianni Trinchieri.
URL:https://www.visitovada.com/evento/cremolino-teatro-e-musica-2025/
CATEGORIES:Cremolino
ATTACH;FMTTYPE=image/jpeg:https://www.visitovada.com/wp-content/uploads/2025/05/whatsapp-image-2025-05-20-at-22.23.59.jpeg
END:VEVENT
BEGIN:VEVENT
DTSTART;VALUE=DATE:20250907
DTEND;VALUE=DATE:20250908
DTSTAMP:20260424T020109
CREATED:20250806T081025Z
LAST-MODIFIED:20250814T152707Z
UID:12040-1757203200-1757289599@www.visitovada.com
SUMMARY:L'altro Monferrato 2025
DESCRIPTION:Francesca Zoccarato in “Prestige”\nLo spettacolo in carne e legno \nAlle ore 18:00 presso campo sportivo \nLo spettacolo sarà preceduto alle ore 16:00 da un laboratorio dimostrativo di tamburello (bambini 5-10 anni)
URL:https://www.visitovada.com/evento/laltro-monferrato-2025-10/
CATEGORIES:Cremolino
ATTACH;FMTTYPE=image/jpeg:https://www.visitovada.com/wp-content/uploads/2025/08/whatsapp-image-2025-08-14-at-16.35.03-1-1.jpeg
END:VEVENT
BEGIN:VEVENT
DTSTART;VALUE=DATE:20250913
DTEND;VALUE=DATE:20250915
DTSTAMP:20260424T020109
CREATED:20250805T082404Z
LAST-MODIFIED:20250805T082404Z
UID:12006-1757721600-1757894399@www.visitovada.com
SUMMARY:Festival di musica sacra
DESCRIPTION:Sabato 13 settembre alle ore 20:30 concerto con organo e coro  \nDomenica 14 settembre alle ore 10:30 Santa Messa cantata \nIngresso libero  \nPer info: wwww.organobossicremolino.it
URL:https://www.visitovada.com/evento/festival-di-musica-sacra-2/
CATEGORIES:Cremolino
ATTACH;FMTTYPE=image/jpeg:https://www.visitovada.com/wp-content/uploads/2025/08/0914.jpg
END:VEVENT
BEGIN:VEVENT
DTSTART;VALUE=DATE:20250914
DTEND;VALUE=DATE:20250915
DTSTAMP:20260424T020109
CREATED:20250902T085626Z
LAST-MODIFIED:20250902T085626Z
UID:12140-1757808000-1757894399@www.visitovada.com
SUMMARY:Camminando con Daria
DESCRIPTION:Camminata ludico motoria e ricreativa non competitiva. Iscrizioni fino alle ore 9:00 presso il Campo Sportivo.\nRitrovo ore 8:00 presso il campo Sportivo\nInfo: 3486905838
URL:https://www.visitovada.com/evento/camminando-con-daria-3/
CATEGORIES:Cremolino
ATTACH;FMTTYPE=image/jpeg:https://www.visitovada.com/wp-content/uploads/2025/09/0914whatsapp-image-2025-09-02-at-10.27.25.jpeg
END:VEVENT
BEGIN:VEVENT
DTSTART;VALUE=DATE:20251213
DTEND;VALUE=DATE:20251215
DTSTAMP:20260424T020109
CREATED:20251108T104114Z
LAST-MODIFIED:20251108T104114Z
UID:12439-1765584000-1765756799@www.visitovada.com
SUMMARY:Un borgo di presepi
DESCRIPTION:Dalle ore 10 alle ore 17 presso Piazza Vittorio Emanuele II e lungo il centro storico \nPresepe storico\, presepe diffuso\, mercatini di Natale\, illuminazione artistica\nDalle ore 14:30 “Note di Natale”\nAnimazione e giochi per bambini dalle ore 14 alle ore 16\nDalle ore 16 concerto di campane (solo domenica) \nper info www.cremolino.info
URL:https://www.visitovada.com/evento/un-borgo-di-presepi/
CATEGORIES:Cremolino
ATTACH;FMTTYPE=image/jpeg:https://www.visitovada.com/wp-content/uploads/2025/11/whatsapp-image-2025-11-08-at-11.35.44.jpeg
END:VEVENT
BEGIN:VEVENT
DTSTART;VALUE=DATE:20251220
DTEND;VALUE=DATE:20260112
DTSTAMP:20260424T020109
CREATED:20251114T084000Z
LAST-MODIFIED:20251114T084000Z
UID:12474-1766188800-1768175999@www.visitovada.com
SUMMARY:Presepi in Ovada 2025
DESCRIPTION:Presso Convento Carmelitano e Borgo Medioevale \nPresepe artistico nel Convento e lungo le vie del paese.\nVisitabile dalle 15.00 alle 18.00: 20 e 21\, 26\, 27 e 28 dicembre\,\n3\, 4\, 5 e 6\, 10 e 11 gennaio.
URL:https://www.visitovada.com/evento/presepi-in-ovada-2025-7/
CATEGORIES:Cremolino
ATTACH;FMTTYPE=image/jpeg:https://www.visitovada.com/wp-content/uploads/2025/11/prolocoovada_presepiinovada2025_locandinaa3_sel_page-0001-1.jpg
END:VEVENT
END:VCALENDAR