
BEGIN:VCALENDAR
VERSION:2.0
PRODID:-//Visit Ovada - ECPv6.13.2.1//NONSGML v1.0//EN
CALSCALE:GREGORIAN
METHOD:PUBLISH
X-ORIGINAL-URL:https://www.visitovada.com
X-WR-CALDESC:Eventi per Visit Ovada
REFRESH-INTERVAL;VALUE=DURATION:PT1H
X-Robots-Tag:noindex
X-PUBLISHED-TTL:PT1H
BEGIN:VTIMEZONE
TZID:Europe/Rome
BEGIN:DAYLIGHT
TZOFFSETFROM:+0100
TZOFFSETTO:+0200
TZNAME:CEST
DTSTART:20260329T010000
END:DAYLIGHT
BEGIN:STANDARD
TZOFFSETFROM:+0200
TZOFFSETTO:+0100
TZNAME:CET
DTSTART:20261025T010000
END:STANDARD
END:VTIMEZONE
BEGIN:VEVENT
DTSTART;VALUE=DATE:20260501
DTEND;VALUE=DATE:20260502
DTSTAMP:20260425T140743
CREATED:20260424T075934Z
LAST-MODIFIED:20260424T075934Z
UID:13114-1777593600-1777679999@www.visitovada.com
SUMMARY:La festa delle Frittelle nell'Antico Borgo
DESCRIPTION:Rievocazione storica con gli sbandieratori di Asti \nAccampamento e musica medievale\nMusica\nBancarelle di prodotti tipici e artigianali
URL:https://www.visitovada.com/evento/la-festa-delle-frittelle-nellantico-borgo/
CATEGORIES:Cremolino
ATTACH;FMTTYPE=image/jpeg:https://www.visitovada.com/wp-content/uploads/2026/04/0501-cremolino.jpg
END:VEVENT
END:VCALENDAR