
BEGIN:VCALENDAR
VERSION:2.0
PRODID:-//Visit Ovada - ECPv6.13.2.1//NONSGML v1.0//EN
CALSCALE:GREGORIAN
METHOD:PUBLISH
X-ORIGINAL-URL:https://www.visitovada.com
X-WR-CALDESC:Eventi per Visit Ovada
REFRESH-INTERVAL;VALUE=DURATION:PT1H
X-Robots-Tag:noindex
X-PUBLISHED-TTL:PT1H
BEGIN:VTIMEZONE
TZID:Europe/Rome
BEGIN:DAYLIGHT
TZOFFSETFROM:+0100
TZOFFSETTO:+0200
TZNAME:CEST
DTSTART:20240331T010000
END:DAYLIGHT
BEGIN:STANDARD
TZOFFSETFROM:+0200
TZOFFSETTO:+0100
TZNAME:CET
DTSTART:20241027T010000
END:STANDARD
END:VTIMEZONE
BEGIN:VEVENT
DTSTART;VALUE=DATE:20240616
DTEND;VALUE=DATE:20240617
DTSTAMP:20260424T083632
CREATED:20240607T134953Z
LAST-MODIFIED:20240607T134953Z
UID:9729-1718496000-1718582399@www.visitovada.com
SUMMARY:I Carabinieri Reali al castello di Cremolino
DESCRIPTION:Rassegna di uniformi storiche e cimeli dal 1900 al 1945 presso le Scuderie del Castello. \nOrario: 10:30 – 12:30 / 16:00 – 19:00
URL:https://www.visitovada.com/evento/i-carabinieri-reali-al-castello-di-cremolino/
CATEGORIES:Cremolino
ATTACH;FMTTYPE=image/jpeg:https://www.visitovada.com/wp-content/uploads/2024/06/0616domenica-16-giugno_page-0001-1.jpg
END:VEVENT
END:VCALENDAR