
BEGIN:VCALENDAR
VERSION:2.0
PRODID:-//Visit Ovada - ECPv6.13.2.1//NONSGML v1.0//EN
CALSCALE:GREGORIAN
METHOD:PUBLISH
X-ORIGINAL-URL:https://www.visitovada.com
X-WR-CALDESC:Eventi per Visit Ovada
REFRESH-INTERVAL;VALUE=DURATION:PT1H
X-Robots-Tag:noindex
X-PUBLISHED-TTL:PT1H
BEGIN:VTIMEZONE
TZID:Europe/Rome
BEGIN:DAYLIGHT
TZOFFSETFROM:+0100
TZOFFSETTO:+0200
TZNAME:CEST
DTSTART:20240331T010000
END:DAYLIGHT
BEGIN:STANDARD
TZOFFSETFROM:+0200
TZOFFSETTO:+0100
TZNAME:CET
DTSTART:20241027T010000
END:STANDARD
END:VTIMEZONE
BEGIN:VEVENT
DTSTART;VALUE=DATE:20240803
DTEND;VALUE=DATE:20240826
DTSTAMP:20260424T052528
CREATED:20240629T081319Z
LAST-MODIFIED:20240629T081319Z
UID:9836-1722643200-1724630399@www.visitovada.com
SUMMARY:Cremolino Teatro e Musica
DESCRIPTION:Sabato 3: Concerto della Emily Band\nDomenica 4: Non Facciamo Pazzie\nSabato 10: Pirandello a briglia sciolta\nDomenica 11: Un giorno in pretura e DU 48\nSabato 17: Concerto dei Timeless\nSabato 24: Le storie di un panchinaro\nDomenica 25: Quando cantavano le Divine \nPresso piazza Vittorio Emanuele II\nInizio spettacoli ore 21:15\nPer gli spettacoli 4-10-11-17-24-25 Ingresso 8€ Ridotto 4€ Abbonamento 35€\nSpettacolo 3 Agosto ingresso 10€
URL:https://www.visitovada.com/evento/cremolino-teatro-e-musica-12/
CATEGORIES:Cremolino
ATTACH;FMTTYPE=image/jpeg:https://www.visitovada.com/wp-content/uploads/2024/06/0825locandina-teatro-cremolino.jpg
END:VEVENT
END:VCALENDAR