
BEGIN:VCALENDAR
VERSION:2.0
PRODID:-//Visit Ovada - ECPv6.13.2.1//NONSGML v1.0//EN
CALSCALE:GREGORIAN
METHOD:PUBLISH
X-ORIGINAL-URL:https://www.visitovada.com
X-WR-CALDESC:Eventi per Visit Ovada
REFRESH-INTERVAL;VALUE=DURATION:PT1H
X-Robots-Tag:noindex
X-PUBLISHED-TTL:PT1H
BEGIN:VTIMEZONE
TZID:Europe/Rome
BEGIN:DAYLIGHT
TZOFFSETFROM:+0100
TZOFFSETTO:+0200
TZNAME:CEST
DTSTART:20250330T010000
END:DAYLIGHT
BEGIN:STANDARD
TZOFFSETFROM:+0200
TZOFFSETTO:+0100
TZNAME:CET
DTSTART:20251026T010000
END:STANDARD
BEGIN:DAYLIGHT
TZOFFSETFROM:+0100
TZOFFSETTO:+0200
TZNAME:CEST
DTSTART:20260329T010000
END:DAYLIGHT
BEGIN:STANDARD
TZOFFSETFROM:+0200
TZOFFSETTO:+0100
TZNAME:CET
DTSTART:20261025T010000
END:STANDARD
END:VTIMEZONE
BEGIN:VEVENT
DTSTART;VALUE=DATE:20250628
DTEND;VALUE=DATE:20250629
DTSTAMP:20260423T005547
CREATED:20250619T133804Z
LAST-MODIFIED:20250619T133804Z
UID:11706-1751068800-1751155199@www.visitovada.com
SUMMARY:E..state a Mornese
DESCRIPTION:Le manifestazioni si svolgeranno nell’ampia e caratteristica Piazza G.Doria\n(Piazza delle scuole) a Mornese\, dalle 19 a mezzanotte circa.\nQuattro serate di squisito food\, vino\, birra\, tanta musica e\nintrattenimento per bambini. \ncon le golose fritture (ravioli\, patatine\,\nacciughe e panissa) del Ristorante “Da Pietro” di Ovada\, la gustosa pizza\ndi “Quello Là” di Pozzolo Formigaro e la birra artigianale dell'”Apicoltura\nVaracca” di Mornese.
URL:https://www.visitovada.com/evento/e-state-a-mornese/
CATEGORIES:Mornese
ATTACH;FMTTYPE=image/jpeg:https://www.visitovada.com/wp-content/uploads/2025/06/estate_mornese2025.jpeg
END:VEVENT
BEGIN:VEVENT
DTSTART;VALUE=DATE:20250705
DTEND;VALUE=DATE:20250706
DTSTAMP:20260423T005547
CREATED:20250619T134013Z
LAST-MODIFIED:20250619T134013Z
UID:11709-1751673600-1751759999@www.visitovada.com
SUMMARY:E..state a Mornese
DESCRIPTION:Le manifestazioni si svolgeranno nell’ampia e caratteristica Piazza G.Doria\n(Piazza delle scuole) a Mornese\, dalle 19 a mezzanotte circa.\nQuattro serate di squisito food\, vino\, birra\, tanta musica e\nintrattenimento per bambini. \nlo street food sarà caratterizzato\ndalla prelibata Focaccia al Formaggio del ristorante “Un Angolo di Recco”\ndi Lavagna (GE)\, la strepitosa pasta fresca de “La Gramola” di Silvano\nd’Orba\, la birra artigianale “Varacca” e il delicatissimo gelato de “La Via\nMaestra” di Ovada.
URL:https://www.visitovada.com/evento/e-state-a-mornese-2/
CATEGORIES:Mornese
ATTACH;FMTTYPE=image/jpeg:https://www.visitovada.com/wp-content/uploads/2025/06/estate_mornese2025-1.jpeg
END:VEVENT
BEGIN:VEVENT
DTSTART;VALUE=DATE:20250711
DTEND;VALUE=DATE:20250713
DTSTAMP:20260423T005547
CREATED:20250619T134242Z
LAST-MODIFIED:20250619T134242Z
UID:11712-1752192000-1752364799@www.visitovada.com
SUMMARY:E..state a Mornese
DESCRIPTION:Le manifestazioni si svolgeranno nell’ampia e caratteristica Piazza G.Doria\n(Piazza delle scuole) a Mornese\, dalle 19 a mezzanotte circa.\nQuattro serate di squisito food\, vino\, birra\, tanta musica e\nintrattenimento per bambini. \nsaranno\npresenti i ricercatissimi smashburgers di “BuonoVero”\, la solita birra di\n“Apicoltura Varacca” ed il gelato de “La Via Maestra”.
URL:https://www.visitovada.com/evento/e-state-a-mornese-3/
CATEGORIES:Mornese
ATTACH;FMTTYPE=image/jpeg:https://www.visitovada.com/wp-content/uploads/2025/06/estate_mornese2025-1.jpeg
END:VEVENT
BEGIN:VEVENT
DTSTART;VALUE=DATE:20250725
DTEND;VALUE=DATE:20250726
DTSTAMP:20260423T005547
CREATED:20250722T080344Z
LAST-MODIFIED:20250722T080344Z
UID:11945-1753401600-1753487999@www.visitovada.com
SUMMARY:VINBUNDO 2025
DESCRIPTION:A partire dalle ore 19\, le vie del paese ospiteranno un evento ricco di gusto\, cultura e intrattenimento per tutte le età. \nProtagonisti della serata saranno otto produttori vinicoli locali\, che presenteranno le loro etichette più rappresentative in un percorso di degustazione all’aperto. Un’occasione unica per scoprire i vini di Mornese direttamente da chi li produce\, immersi nella suggestiva cornice estiva del paese collinare. \nMa VINBUNDO non è solo vino: il centro storico sarà animato da bancarelle di artigianato locale\, street food\, prodotti tipici e tante piccole sorprese che raccontano il meglio della tradizione e della creatività monferrina. \nDalle 21.00 in poi\, la musica prenderà il sopravvento con tre palchi dislocati nel borgo: un palinsesto musicale variegato accompagnerà i visitatori fino a tarda sera\, tra note pop\, folk\, jazz e discoteca.  \nTra le novità 2025\, l’apertura e la visita di una cantina storica ottocentesca.
URL:https://www.visitovada.com/evento/vinbundo-2025/
CATEGORIES:Mornese
ATTACH;FMTTYPE=image/jpeg:https://www.visitovada.com/wp-content/uploads/2025/07/whatsapp-image-2025-07-21-at-13.16.20.jpeg
END:VEVENT
BEGIN:VEVENT
DTSTART;VALUE=DATE:20250830
DTEND;VALUE=DATE:20250831
DTSTAMP:20260423T005547
CREATED:20250411T135130Z
LAST-MODIFIED:20250411T135130Z
UID:11315-1756512000-1756598399@www.visitovada.com
SUMMARY:Attraverso Festival
DESCRIPTION:Dialogo con Platone sulle cose dell’amore \nAlle ore 21:00 presso Cortile del Collegio Santa Maria Mazzarello\nUmberto Galimberti \nBiglietto 18€ \nUmberto Galimberti
URL:https://www.visitovada.com/evento/attraverso-festival-28/
CATEGORIES:Mornese
ATTACH;FMTTYPE=image/png:https://www.visitovada.com/wp-content/uploads/2025/04/images.png
END:VEVENT
BEGIN:VEVENT
DTSTART;VALUE=DATE:20250928
DTEND;VALUE=DATE:20250929
DTSTAMP:20260423T005547
CREATED:20250911T074616Z
LAST-MODIFIED:20250911T074616Z
UID:12176-1759017600-1759103999@www.visitovada.com
SUMMARY:FAI - La pineta di Mornese
DESCRIPTION:Specifiche\nPercorso: Turistico ad anello\, caratterizzato da alcune salite su strada sterrata e sentiero\nDifficoltà: facile/media\nDislivello positivo/negativo: 100 m (50 in salita/50 in discesa)\nLunghezza: circa 6 km\nDurata prevista: 6 ore incluse le soste\nAndatura: lenta\nTappe (Gli orari intermedi sono da intendersi come indicativi)\n10.00 Ritrovo presso Piazzetta San Carlo (in fondo a Via S. Carlo Borromeo)\n10.15 partenza\, Grande Amaca\, Big Bench\n12.00 arrivo Belvedere\, sosta pranzo\n13.00 discesa al borgo del Castello di Casaleggio e visita alla chiesetta di S. Leone\n14.30 partenza per il rientro in piazzetta San Carlo\nQuota di partecipazione:\nContributo a offerta libera per le attività istituzionali del FAI\nModalità di partecipazione:\nPrenotazione obbligatoria al link:\nhttps://bit.ly/28_09_Mornese\nAbbigliamento: a strati\, scarpe con suola conformata\, zainetto\, pranzo al sacco e\nborraccia personale piena (possibilità di rifornirsi d’acqua in loco)\nCani: La partecipazione con il cane deve essere previamente concordata contattandoci\nalla mail: settecastelli@gruppofai.fondoambiente.it . Diversamente NON SARANNO\nACCETTATI\nNB: IN CASO DI MALTEMPO E/O DI IMPRATICABILITA’ DEL TERRENO L’EVENTO\nSARA’ ANNULLATO
URL:https://www.visitovada.com/evento/fai-la-pineta-di-mornese/
CATEGORIES:Mornese
ATTACH;FMTTYPE=image/jpeg:https://www.visitovada.com/wp-content/uploads/2025/09/0928_50_mornese_28-09.jpeg
END:VEVENT
BEGIN:VEVENT
DTSTART;VALUE=DATE:20251011
DTEND;VALUE=DATE:20251013
DTSTAMP:20260423T005547
CREATED:20251002T155228Z
LAST-MODIFIED:20251002T155228Z
UID:12309-1760140800-1760313599@www.visitovada.com
SUMMARY:Giornate FAI d'Autunno
DESCRIPTION:Santa Maria Mazzarello e la sua Valponasca \nOrario\nDomenica: 09:30 – 12:30 / 14:00 – 17:30\nNote per la visita\nUscendo dall’abitato di Mornese in direzione Parodi seguire le indicazioni per la Valponasca\, strada per un tratto sterrata\, possibilità di parcheggio.  \nPer maggiori info https://fondoambiente.it/luoghi/cascina-valponasca?gfa
URL:https://www.visitovada.com/evento/giornate-fai-dautunno-29/
CATEGORIES:Mornese
ATTACH;FMTTYPE=image/jpeg:https://www.visitovada.com/wp-content/uploads/2025/10/1012gfa25_mor.jpg
END:VEVENT
BEGIN:VEVENT
DTSTART;VALUE=DATE:20251208
DTEND;VALUE=DATE:20251225
DTSTAMP:20260423T005547
CREATED:20251203T090652Z
LAST-MODIFIED:20251203T090652Z
UID:12548-1765152000-1766620799@www.visitovada.com
SUMMARY:30° Anniversario del Presepe di San Silvestro
DESCRIPTION:Lunedì 8 dicembre ore 17:00\nInaugurazione installazione artistica della Natività\nMusica classica natalizia\nAccensione luminarie e albero\nPresepi\, ghirlande e addobbi natalizi \nMercoledì 24 dicembre dalle ore 22:00\nMusiche degli “Zampognari del Piemonte”\nMostra elaborati alunni della scuola di Mornese\nOre 24:00 Santa Messa \nCioccolata calda\, vin brulé\, panettone
URL:https://www.visitovada.com/evento/30-anniversario-del-presepe-di-san-silvestro/
CATEGORIES:Mornese
ATTACH;FMTTYPE=image/jpeg:https://www.visitovada.com/wp-content/uploads/2025/12/0101-mornese-scaled.jpeg
END:VEVENT
BEGIN:VEVENT
DTSTART;VALUE=DATE:20251224
DTEND;VALUE=DATE:20260107
DTSTAMP:20260423T005547
CREATED:20251114T082902Z
LAST-MODIFIED:20251114T082902Z
UID:12466-1766534400-1767743999@www.visitovada.com
SUMMARY:Presepi in Ovada 2025
DESCRIPTION:Presso San Silvestro \nNel trentennale il presepe è visitabile nelle seguenti date:\n24 dicembre dopo la S. Messa delle ore 24.\ndal 25 dicembre al 6 gennaio dalle 15.00 alle 18.00.
URL:https://www.visitovada.com/evento/presepi-in-ovada-2025-3/
CATEGORIES:Mornese
ATTACH;FMTTYPE=image/jpeg:https://www.visitovada.com/wp-content/uploads/2025/11/prolocoovada_presepiinovada2025_locandinaa3_sel_page-0001-1.jpg
END:VEVENT
BEGIN:VEVENT
DTSTART;VALUE=DATE:20260322
DTEND;VALUE=DATE:20260323
DTSTAMP:20260423T005547
CREATED:20260310T083040Z
LAST-MODIFIED:20260310T083040Z
UID:12746-1774137600-1774223999@www.visitovada.com
SUMMARY:Giornate FAI di Primavera
DESCRIPTION:MORNESE: LA ROCCIA E LA VITE \nDomenica: 10:30 – 13:00 / 14:00 – 18:00 (ultimo ingresso 17:30)\nDurata visita: 40 minuti \nI volontari del FAI\, in collaborazione\, con gli operatori del Parco delle Capanne di Marcarolo vi parleranno delle caratteristiche geomorfologiche e climatiche che rendono così efficace la coltivazione della vite. I ragazzi della scuola media inferiori E. Podestà vi illustreranno le caratteristiche delle numerose specie di Orchidee che vivono nei vigneti. Lungo l’antico percorso che portava al Castellazzo\, sarà possibile visitare le cantine scavate nella marna e osservare gli attrezzi tipici della lavorazione dell’uva ( torchi lignei\, botti\, filtri ecc.). La visita sarà accompagnata dalla visione di un documentario sulla vita agricola di Mornese negli anni cinquanta e sessanta. \nNon è richiesta prenotazione
URL:https://www.visitovada.com/evento/giornate-fai-di-primavera-2/
CATEGORIES:Mornese
ATTACH;FMTTYPE=image/avif:https://www.visitovada.com/wp-content/uploads/2026/03/mornese-il-centro-storico_218404.avif
END:VEVENT
BEGIN:VEVENT
DTSTART;VALUE=DATE:20260411
DTEND;VALUE=DATE:20260412
DTSTAMP:20260423T005547
CREATED:20260325T081943Z
LAST-MODIFIED:20260401T070935Z
UID:12860-1775865600-1775951999@www.visitovada.com
SUMMARY:Ricordare la Benedicta
DESCRIPTION:Presentazione del lungometraggio del 1946 \nAlle ore 20:45 presso Sala Consiliare\, Via Doria 49
URL:https://www.visitovada.com/evento/ricordare-la-benedicta/
CATEGORIES:Mornese
ATTACH;FMTTYPE=image/jpeg:https://www.visitovada.com/wp-content/uploads/2026/03/whatsapp-image-2026-03-30-at-11.45.41.jpeg
END:VEVENT
BEGIN:VEVENT
DTSTART;VALUE=DATE:20260426
DTEND;VALUE=DATE:20260427
DTSTAMP:20260423T005547
CREATED:20260415T092022Z
LAST-MODIFIED:20260415T092022Z
UID:13095-1777161600-1777247999@www.visitovada.com
SUMMARY:Raduno Di Primavera
DESCRIPTION:PROGRAMMA\n– 8\,30 apertura iscrizioni e consegna gadget nel centro storico di Mornese\n– 9\,00 colazione\n– 11\,00 partenza giro turistico tra i castelli dell’Ovadese\n– 12\,15 rientro a Mornese e sistemazione delle auto in Piazza Andrea Doria\n– Visita al Borgo di Mornese.\n– 13\,00 pranzo presso il Ristorante Jolly.\nA seguire premiazioni e saluti \nQUOTE DI PARTECIPAZIONE\n– Iscrizione € 15\,00 ad equipaggio\n– Iscrizione soci Bordino € 13\,00 ad equipaggio\n– Pranzo € 27 a persona\nPosti a pranzo limitati è consigliata la prenotazione \nINFO\nNico 3398169371\ninfo@pbordino.com\nwww.pbordino.com
URL:https://www.visitovada.com/evento/raduno-di-primavera/
CATEGORIES:Mornese
ATTACH;FMTTYPE=image/jpeg:https://www.visitovada.com/wp-content/uploads/2026/04/0426volantino-26.04-mornese-pag-1-scaled.jpg
END:VEVENT
BEGIN:VEVENT
DTSTART;VALUE=DATE:20260826
DTEND;VALUE=DATE:20260827
DTSTAMP:20260423T005547
CREATED:20260328T093349Z
LAST-MODIFIED:20260328T093349Z
UID:12910-1787702400-1787788799@www.visitovada.com
SUMMARY:Attraverso Festival 2026 - Federico Buffa
DESCRIPTION:“Il futuro è tra mezz’ora. Le utlime 48 ore di Lucio Dalla” \nAlle ore 21:00 presso Piazza del Municipio \nBiglietto 20€ \nFederico Buffa
URL:https://www.visitovada.com/evento/attraverso-festival-2026-federico-buffa/
CATEGORIES:Mornese
ATTACH;FMTTYPE=image/jpeg:https://www.visitovada.com/wp-content/uploads/2026/03/657574911_1510941154376385_3024035785226587293_n.jpg
END:VEVENT
END:VCALENDAR