
BEGIN:VCALENDAR
VERSION:2.0
PRODID:-//Visit Ovada - ECPv6.13.2.1//NONSGML v1.0//EN
CALSCALE:GREGORIAN
METHOD:PUBLISH
X-ORIGINAL-URL:https://www.visitovada.com
X-WR-CALDESC:Eventi per Visit Ovada
REFRESH-INTERVAL;VALUE=DURATION:PT1H
X-Robots-Tag:noindex
X-PUBLISHED-TTL:PT1H
BEGIN:VTIMEZONE
TZID:Europe/Rome
BEGIN:DAYLIGHT
TZOFFSETFROM:+0100
TZOFFSETTO:+0200
TZNAME:CEST
DTSTART:20250330T010000
END:DAYLIGHT
BEGIN:STANDARD
TZOFFSETFROM:+0200
TZOFFSETTO:+0100
TZNAME:CET
DTSTART:20251026T010000
END:STANDARD
END:VTIMEZONE
BEGIN:VEVENT
DTSTART;VALUE=DATE:20250622
DTEND;VALUE=DATE:20250623
DTSTAMP:20260423T024831
CREATED:20250619T132955Z
LAST-MODIFIED:20250619T132955Z
UID:11703-1750550400-1750636799@www.visitovada.com
SUMMARY:7ª edizione della CorriMornese
DESCRIPTION:Un evento imperdibile per chi ama correre\, camminare e vivere la natura tra le splendide colline piemontesi. \n➡️La gara è competitiva (8\,5 km collinare/misto) e approvata FIDAL e UISP. \n‼️MORNESE E20\, invece\, organizza anche una camminata ludico-motoria aperta a tutti\, perfetta per chi vuole solo godersi il percorso in tranquillità‼️ \nI vincitori saranno premiati con prodotti enogastronomici locali!
URL:https://www.visitovada.com/evento/7a-edizione-della-corrimornese/
CATEGORIES:Mornese
ATTACH;FMTTYPE=image/jpeg:https://www.visitovada.com/wp-content/uploads/2025/06/image0.jpeg
END:VEVENT
END:VCALENDAR